BEGIN:VCALENDAR
VERSION:2.0
PRODID:-//Speer-Braui - ECPv6.15.20//NONSGML v1.0//EN
CALSCALE:GREGORIAN
METHOD:PUBLISH
X-WR-CALNAME:Speer-Braui
X-ORIGINAL-URL:https://www.speer-braui.ch
X-WR-CALDESC:Veranstaltungen für Speer-Braui
REFRESH-INTERVAL;VALUE=DURATION:PT1H
X-Robots-Tag:noindex
X-PUBLISHED-TTL:PT1H
BEGIN:VTIMEZONE
TZID:Europe/Zurich
BEGIN:DAYLIGHT
TZOFFSETFROM:+0100
TZOFFSETTO:+0200
TZNAME:CEST
DTSTART:20240331T010000
END:DAYLIGHT
BEGIN:STANDARD
TZOFFSETFROM:+0200
TZOFFSETTO:+0100
TZNAME:CET
DTSTART:20241027T010000
END:STANDARD
BEGIN:DAYLIGHT
TZOFFSETFROM:+0100
TZOFFSETTO:+0200
TZNAME:CEST
DTSTART:20250330T010000
END:DAYLIGHT
BEGIN:STANDARD
TZOFFSETFROM:+0200
TZOFFSETTO:+0100
TZNAME:CET
DTSTART:20251026T010000
END:STANDARD
BEGIN:DAYLIGHT
TZOFFSETFROM:+0100
TZOFFSETTO:+0200
TZNAME:CEST
DTSTART:20260329T010000
END:DAYLIGHT
BEGIN:STANDARD
TZOFFSETFROM:+0200
TZOFFSETTO:+0100
TZNAME:CET
DTSTART:20261025T010000
END:STANDARD
END:VTIMEZONE
BEGIN:VEVENT
DTSTART;TZID=Europe/Zurich:20251108T100000
DTEND;TZID=Europe/Zurich:20251108T170000
DTSTAMP:20260424T150544
CREATED:20250311T173231Z
LAST-MODIFIED:20251105T095243Z
UID:30656-1762596000-1762621200@www.speer-braui.ch
SUMMARY:Whisky Release 2025
DESCRIPTION:Unsere neuen Whiskys sind da!\nPräsentation und Verkaufsstart der neuen Whisky Abfüllungen bei uns im Brauereiladen.\nKomm vorbei und probiere die neuen Abfüllungen. \n🏅 Zweifache Auszeichnung für die neuen Speer-Whisky Abfüllungen\nAn der DistiSuisse 2025 wurde unser Speer-Whisky 2018 – Sauternes Finish mit Gold\, und der Speer-Whisky 2022 – Peated One mit Silber ausgezeichnet. \n🔸 Speer-Whisky 2018 – Sauternes Finish\n6 Jahre und 11 Monate im Portweinfass\, gefolgt von einem 10-monatigen Finish im Sauternesfass. \nDegustationsnotizen:\n– Farbe: mitteldichtes Goldgelb\, goldbraun\n– Nase: Getreide\, Holz\, dezenter Rauch\, Trockenfrüchte\n– Gaumen: Dunkle Schokolade\, langanhaltend\, komplex \n🔸 Speer-Whisky 2022 – Peated One\n3 Jahre im Laphroaigfass – erstmals torfrauchig. \nDegustationsnotizen:\n– Farbe: Helles Stroh\n– Nase: Sauber\, Torfrauch\, wenig Getreide\, Waldboden\n– Gaumen: Sauber\, leichte Malzsüsse\, Torfrauch\, mittlere Komplexität\, mittellanger Abgang
URL:https://www.speer-braui.ch/veranstaltungen/whisky-release-2025/
LOCATION:Speer-Braui\, Dorfstrasse 11\, Kaltbrunn\, 8722\, Schweiz
CATEGORIES:Ladenöffnungszeiten
ATTACH;FMTTYPE=image/png:https://www.speer-braui.ch/wp-content/uploads/2025/03/linkedInEventBildRelease2025.png
END:VEVENT
END:VCALENDAR