BEGIN:VCALENDAR
VERSION:2.0
PRODID:-//Speer-Braui - ECPv6.15.20//NONSGML v1.0//EN
CALSCALE:GREGORIAN
METHOD:PUBLISH
X-ORIGINAL-URL:https://www.speer-braui.ch
X-WR-CALDESC:Veranstaltungen für Speer-Braui
REFRESH-INTERVAL;VALUE=DURATION:PT1H
X-Robots-Tag:noindex
X-PUBLISHED-TTL:PT1H
BEGIN:VTIMEZONE
TZID:Europe/Zurich
BEGIN:DAYLIGHT
TZOFFSETFROM:+0100
TZOFFSETTO:+0200
TZNAME:CEST
DTSTART:20240331T010000
END:DAYLIGHT
BEGIN:STANDARD
TZOFFSETFROM:+0200
TZOFFSETTO:+0100
TZNAME:CET
DTSTART:20241027T010000
END:STANDARD
BEGIN:DAYLIGHT
TZOFFSETFROM:+0100
TZOFFSETTO:+0200
TZNAME:CEST
DTSTART:20250330T010000
END:DAYLIGHT
BEGIN:STANDARD
TZOFFSETFROM:+0200
TZOFFSETTO:+0100
TZNAME:CET
DTSTART:20251026T010000
END:STANDARD
BEGIN:DAYLIGHT
TZOFFSETFROM:+0100
TZOFFSETTO:+0200
TZNAME:CEST
DTSTART:20260329T010000
END:DAYLIGHT
BEGIN:STANDARD
TZOFFSETFROM:+0200
TZOFFSETTO:+0100
TZNAME:CET
DTSTART:20261025T010000
END:STANDARD
END:VTIMEZONE
BEGIN:VEVENT
DTSTART;VALUE=DATE:20251128
DTEND;VALUE=DATE:20251130
DTSTAMP:20260424T150817
CREATED:20250311T173530Z
LAST-MODIFIED:20251017T053519Z
UID:30662-1764288000-1764460799@www.speer-braui.ch
SUMMARY:Whisky & Music Festival Zürich
DESCRIPTION:Wir sind am Whisky & Music Festival in Zürich \nDetails: \n5. Whisky & Music Festival Zürich\n28. und 29. November 2025 • Volkshaus Zürich • Stauffacherstrasse 60 • 8004 Zürich \nErlebe eine einzigartige Veranstaltung für Whisky-Liebhaber und Musikfans mit Top-Ausstellern\, Live-Musik und exklusiven Whisky-Seminaren. \nDas 5. Whisky & Music Festival Zürich findet wie jedes Jahr wieder am letzten Wochenende im November statt – und verspricht einmal mehr ein unvergessliches Erlebnis für Whisky-Liebhaber und Musikfans. \nDie Ausstellerliste ist beeindruckend: Über 35 namhafte Aussteller präsentieren mehr als 1500 verschiedene Whiskys zur Verkostung – darunter viele Raritäten. Zahlreiche Produzenten und Markenbotschafter (Ambassadors) aus Schottland und der Welt reisen eigens an\, um ihre Whiskys persönlich vorzustellen. Damit wird das Festival zum bedeutenden Treffpunkt der Whiskygemeinde in der Schweiz. \nAuch das musikalische Line-up sorgt für Begeisterung: \nThe Led Farmers\, die wohl unterhaltsamste Celtic-Rock-Band der Welt\, bringen erstklassigen Irish Folk Rock auf die Bühne. Ein weiterer Höhepunkt ist der Auftritt des schottischen Whiskybarden Robin Laing\, der in der Schweiz eine treue Fangemeinde hat. Die Andreas Winkler Band begeistert mit gefühlvollen Balladen aus Schottland und Irland sowie energiegeladenen Jigs & Reels. Als Special Guest sorgt Christa Fleischmann mit ihrer ausdrucksstarken Stimme und bluesigen Pianoklängen für besondere Momente. Und für authentisches Highland-Feeling sorgen The Pipes and Drums Zurich mit traditionellen Dudelsackklängen. \nAbgerundet wird das Festival durch exklusive Whisky-Seminare mit renommierten Persönlichkeiten der internationalen Whiskywelt – fundiert\, unterhaltsam und mit vielen spannenden Einblicken. \n Daten und Öffnungszeiten\nFreitag\, 22. November 2024\, 16-23 Uhr (Whiskymesse bis 22 Uhr\, Konzerte bis 23 Uhr)\nSamstag\, 23. November 2023\, 14-23 Uhr (Whiskymesse bis 22 Uhr\, Konzerte bis 23 Uhr) \nLocation\nVOLKSHAUS ZÜRICH\, Stauffacherstrasse 60\, 8004 Zürich \n Ticketpreis für Besucher \nFreitag 28.11.2025 – 16 bis 22 Uhr (Konzerte bis 23 Uhr)\nCHF 25.- im Vorverkauf auf Eventfrog\, CHF 30.- an der Abendkasse \n​Samstag 29.11.2025 – 14 bis 22 Uhr (Konzerte bis 23 Uhr)\nCHF 28.- im Vorverkauf auf Eventfrog\, CHF 33.- an der Abendkasse \nVergünstigter Preis für Kiltträger-Innen CHF 18.- (an beiden Tagen\, nur an der Abendkasse!) \nIm Preis ist der Zugang zu allen Musikdarbietungen und zur Whisky Messe enthalten. \nDie einzelnen Degustationen (je 1 cl) werden den Ausstellern jeweils bar am Stand bezahlt.\nDie Masterclasses sind nicht im Eintrittspreis enthalten und müssen extra dazugebucht werden!\n  \nTicketlink:\nhttps://eventfrog.ch/de/p/gruppen/5-whisky-music-festival-zuerich-2025-7358778716254661793.html \nTickets im Vorverkauf günstiger! \nwww.whiskyandmusic.com
URL:https://www.speer-braui.ch/veranstaltungen/whisky-music-zuerich/
CATEGORIES:Ladenöffnungszeiten
ATTACH;FMTTYPE=image/png:https://www.speer-braui.ch/wp-content/uploads/2025/03/logo-whiskyanmusic-25.png
END:VEVENT
END:VCALENDAR