BEGIN:VCALENDAR
VERSION:2.0
PRODID:-//Speer-Braui - ECPv6.15.20//NONSGML v1.0//EN
CALSCALE:GREGORIAN
METHOD:PUBLISH
X-WR-CALNAME:Speer-Braui
X-ORIGINAL-URL:https://www.speer-braui.ch
X-WR-CALDESC:Veranstaltungen für Speer-Braui
REFRESH-INTERVAL;VALUE=DURATION:PT1H
X-Robots-Tag:noindex
X-PUBLISHED-TTL:PT1H
BEGIN:VTIMEZONE
TZID:Europe/Zurich
BEGIN:DAYLIGHT
TZOFFSETFROM:+0100
TZOFFSETTO:+0200
TZNAME:CEST
DTSTART:20240331T010000
END:DAYLIGHT
BEGIN:STANDARD
TZOFFSETFROM:+0200
TZOFFSETTO:+0100
TZNAME:CET
DTSTART:20241027T010000
END:STANDARD
BEGIN:DAYLIGHT
TZOFFSETFROM:+0100
TZOFFSETTO:+0200
TZNAME:CEST
DTSTART:20250330T010000
END:DAYLIGHT
BEGIN:STANDARD
TZOFFSETFROM:+0200
TZOFFSETTO:+0100
TZNAME:CET
DTSTART:20251026T010000
END:STANDARD
BEGIN:DAYLIGHT
TZOFFSETFROM:+0100
TZOFFSETTO:+0200
TZNAME:CEST
DTSTART:20260329T010000
END:DAYLIGHT
BEGIN:STANDARD
TZOFFSETFROM:+0200
TZOFFSETTO:+0100
TZNAME:CET
DTSTART:20261025T010000
END:STANDARD
END:VTIMEZONE
BEGIN:VEVENT
DTSTART;VALUE=DATE:20251206
DTEND;VALUE=DATE:20251207
DTSTAMP:20260424T134139
CREATED:20250311T173626Z
LAST-MODIFIED:20251017T054005Z
UID:30664-1764979200-1765065599@www.speer-braui.ch
SUMMARY:Weihnachtsmarkt Rieden
DESCRIPTION:Wir sind am Weihnachtsmarkt in Rieden SG. \nNeben unserem Stand führen wie auch eine Festwirtschaft.
URL:https://www.speer-braui.ch/veranstaltungen/weihnachtsmarkt-rieden/
CATEGORIES:Ladenöffnungszeiten
ATTACH;FMTTYPE=image/png:https://www.speer-braui.ch/wp-content/uploads/2025/03/weihnachstmarkt-rieden.png
END:VEVENT
END:VCALENDAR