BEGIN:VCALENDAR
VERSION:2.0
PRODID:-//Speer-Braui - ECPv6.15.20//NONSGML v1.0//EN
CALSCALE:GREGORIAN
METHOD:PUBLISH
X-ORIGINAL-URL:https://www.speer-braui.ch
X-WR-CALDESC:Veranstaltungen für Speer-Braui
REFRESH-INTERVAL;VALUE=DURATION:PT1H
X-Robots-Tag:noindex
X-PUBLISHED-TTL:PT1H
BEGIN:VTIMEZONE
TZID:Europe/Zurich
BEGIN:DAYLIGHT
TZOFFSETFROM:+0100
TZOFFSETTO:+0200
TZNAME:CEST
DTSTART:20240331T010000
END:DAYLIGHT
BEGIN:STANDARD
TZOFFSETFROM:+0200
TZOFFSETTO:+0100
TZNAME:CET
DTSTART:20241027T010000
END:STANDARD
BEGIN:DAYLIGHT
TZOFFSETFROM:+0100
TZOFFSETTO:+0200
TZNAME:CEST
DTSTART:20250330T010000
END:DAYLIGHT
BEGIN:STANDARD
TZOFFSETFROM:+0200
TZOFFSETTO:+0100
TZNAME:CET
DTSTART:20251026T010000
END:STANDARD
BEGIN:DAYLIGHT
TZOFFSETFROM:+0100
TZOFFSETTO:+0200
TZNAME:CEST
DTSTART:20260329T010000
END:DAYLIGHT
BEGIN:STANDARD
TZOFFSETFROM:+0200
TZOFFSETTO:+0100
TZNAME:CET
DTSTART:20261025T010000
END:STANDARD
END:VTIMEZONE
BEGIN:VEVENT
DTSTART;TZID=Europe/Zurich:20251220T100000
DTEND;TZID=Europe/Zurich:20251220T190000
DTSTAMP:20260424T145902
CREATED:20250311T173757Z
LAST-MODIFIED:20251002T050003Z
UID:30668-1766224800-1766257200@www.speer-braui.ch
SUMMARY:Brauereiladen offen
DESCRIPTION:An diesem Tag haben wir nicht nur den Laden geöffnet\, sondern auch:\nab 16:00 Weihnachtsfenster\nab 19:00 Fondue Essen. \nAn diesem Tag gibt es auch wieder beste Käsespezialitäten von Whisky\, Cheese & Genuss zu kaufen. whiskycheese.ch
URL:https://www.speer-braui.ch/veranstaltungen/brauereiladen-offen-9/
LOCATION:Speer-Braui\, Dorfstrasse 11\, Kaltbrunn\, 8722\, Schweiz
CATEGORIES:Ladenöffnungszeiten
ATTACH;FMTTYPE=image/png:https://www.speer-braui.ch/wp-content/uploads/2023/04/BrauiVonAussen.png
END:VEVENT
BEGIN:VEVENT
DTSTART;TZID=Europe/Zurich:20251220T190000
DTEND;TZID=Europe/Zurich:20251220T230000
DTSTAMP:20260424T145902
CREATED:20251002T050120Z
LAST-MODIFIED:20251115T083212Z
UID:30716-1766257200-1766271600@www.speer-braui.ch
SUMMARY:Fondue Essen
DESCRIPTION:Tauche ein in einen genussvollen Abend bei unserem Fondue-Event! Du hast die Wahl zwischen zwei köstlichen Varianten: \n\nBierfondue verfeinert mit dem unverwechselbaren Bier der Speer-Braui\nWhiskyfondue\, ein einzigartiges Geschmackserlebnis mit unserem Single Malt Whisky\n\nZubereitet von „Whisky\, Cheese & Genuss“\, die wahre Meister darin sind\, erstklassigen Käse mit feinem Whisky und charaktervollem Bier zu vereinen: whiskycheese.ch. \nPreis: 28.50 CHF pro Person\, Fondue à discretion – also so viel\, wie Dein Herz begehrt! \nDamit wir alles perfekt für Dich vorbereiten können\, ist eine Anmeldung/Buchung über untenstehenden Button (Tickets kaufen) ist zwingend erforderlich. \nVerpasse nicht diese einzigartige Gelegenheit\, den Genuss lokaler Spezialitäten neu zu entdecken!
URL:https://www.speer-braui.ch/veranstaltungen/fondue-essen-2/
LOCATION:Speer-Braui\, Dorfstrasse 11\, Kaltbrunn\, 8722\, Schweiz
ATTACH;FMTTYPE=image/jpeg:https://www.speer-braui.ch/wp-content/uploads/2024/11/cheese-fondue-2803840_1280-1.jpg
END:VEVENT
END:VCALENDAR