BEGIN:VCALENDAR
VERSION:2.0
PRODID:-//Speer-Braui - ECPv6.15.20//NONSGML v1.0//EN
CALSCALE:GREGORIAN
METHOD:PUBLISH
X-ORIGINAL-URL:https://www.speer-braui.ch
X-WR-CALDESC:Veranstaltungen für Speer-Braui
REFRESH-INTERVAL;VALUE=DURATION:PT1H
X-Robots-Tag:noindex
X-PUBLISHED-TTL:PT1H
BEGIN:VTIMEZONE
TZID:Europe/Zurich
BEGIN:DAYLIGHT
TZOFFSETFROM:+0100
TZOFFSETTO:+0200
TZNAME:CEST
DTSTART:20250330T010000
END:DAYLIGHT
BEGIN:STANDARD
TZOFFSETFROM:+0200
TZOFFSETTO:+0100
TZNAME:CET
DTSTART:20251026T010000
END:STANDARD
BEGIN:DAYLIGHT
TZOFFSETFROM:+0100
TZOFFSETTO:+0200
TZNAME:CEST
DTSTART:20260329T010000
END:DAYLIGHT
BEGIN:STANDARD
TZOFFSETFROM:+0200
TZOFFSETTO:+0100
TZNAME:CET
DTSTART:20261025T010000
END:STANDARD
BEGIN:DAYLIGHT
TZOFFSETFROM:+0100
TZOFFSETTO:+0200
TZNAME:CEST
DTSTART:20270328T010000
END:DAYLIGHT
BEGIN:STANDARD
TZOFFSETFROM:+0200
TZOFFSETTO:+0100
TZNAME:CET
DTSTART:20271031T010000
END:STANDARD
END:VTIMEZONE
BEGIN:VEVENT
DTSTART;TZID=Europe/Zurich:20260227T180000
DTEND;TZID=Europe/Zurich:20260227T230000
DTSTAMP:20260420T084218
CREATED:20251222T112053Z
LAST-MODIFIED:20251222T112659Z
UID:30862-1772215200-1772233200@www.speer-braui.ch
SUMMARY:Brauereiladen offen
DESCRIPTION:
URL:https://www.speer-braui.ch/veranstaltungen/brauereiladen-offen-10/
LOCATION:Speer-Braui\, Dorfstrasse 11\, Kaltbrunn\, 8722\, Schweiz
CATEGORIES:Ladenöffnungszeiten
ATTACH;FMTTYPE=image/png:https://www.speer-braui.ch/wp-content/uploads/2023/04/BrauiVonAussen.png
END:VEVENT
END:VCALENDAR