BEGIN:VCALENDAR
VERSION:2.0
PRODID:-//Speer-Braui - ECPv6.15.20//NONSGML v1.0//EN
CALSCALE:GREGORIAN
METHOD:PUBLISH
X-WR-CALNAME:Speer-Braui
X-ORIGINAL-URL:https://www.speer-braui.ch
X-WR-CALDESC:Veranstaltungen für Speer-Braui
REFRESH-INTERVAL;VALUE=DURATION:PT1H
X-Robots-Tag:noindex
X-PUBLISHED-TTL:PT1H
BEGIN:VTIMEZONE
TZID:Europe/Zurich
BEGIN:DAYLIGHT
TZOFFSETFROM:+0100
TZOFFSETTO:+0200
TZNAME:CEST
DTSTART:20250330T010000
END:DAYLIGHT
BEGIN:STANDARD
TZOFFSETFROM:+0200
TZOFFSETTO:+0100
TZNAME:CET
DTSTART:20251026T010000
END:STANDARD
BEGIN:DAYLIGHT
TZOFFSETFROM:+0100
TZOFFSETTO:+0200
TZNAME:CEST
DTSTART:20260329T010000
END:DAYLIGHT
BEGIN:STANDARD
TZOFFSETFROM:+0200
TZOFFSETTO:+0100
TZNAME:CET
DTSTART:20261025T010000
END:STANDARD
BEGIN:DAYLIGHT
TZOFFSETFROM:+0100
TZOFFSETTO:+0200
TZNAME:CEST
DTSTART:20270328T010000
END:DAYLIGHT
BEGIN:STANDARD
TZOFFSETFROM:+0200
TZOFFSETTO:+0100
TZNAME:CET
DTSTART:20271031T010000
END:STANDARD
END:VTIMEZONE
BEGIN:VEVENT
DTSTART;TZID=Europe/Zurich:20260425T140000
DTEND;TZID=Europe/Zurich:20260425T220000
DTSTAMP:20260420T064134
CREATED:20260306T065957Z
LAST-MODIFIED:20260306T065957Z
UID:30882-1777125600-1777154400@www.speer-braui.ch
SUMMARY:Whisky Mäss Winterthur
DESCRIPTION:Wir sind auch dieses Jahr an der Whiskymäss Winterthur als Aussteller dabei!
URL:https://www.speer-braui.ch/veranstaltungen/whisky-maess-winterthur-4/
ATTACH;FMTTYPE=image/png:https://www.speer-braui.ch/wp-content/uploads/2025/01/Whiskymaess.png
END:VEVENT
END:VCALENDAR