BEGIN:VCALENDAR
VERSION:2.0
PRODID:-//Speer-Braui - ECPv6.15.20//NONSGML v1.0//EN
CALSCALE:GREGORIAN
METHOD:PUBLISH
X-WR-CALNAME:Speer-Braui
X-ORIGINAL-URL:https://www.speer-braui.ch
X-WR-CALDESC:Veranstaltungen für Speer-Braui
REFRESH-INTERVAL;VALUE=DURATION:PT1H
X-Robots-Tag:noindex
X-PUBLISHED-TTL:PT1H
BEGIN:VTIMEZONE
TZID:Europe/Zurich
BEGIN:DAYLIGHT
TZOFFSETFROM:+0100
TZOFFSETTO:+0200
TZNAME:CEST
DTSTART:20230326T010000
END:DAYLIGHT
BEGIN:STANDARD
TZOFFSETFROM:+0200
TZOFFSETTO:+0100
TZNAME:CET
DTSTART:20231029T010000
END:STANDARD
BEGIN:DAYLIGHT
TZOFFSETFROM:+0100
TZOFFSETTO:+0200
TZNAME:CEST
DTSTART:20240331T010000
END:DAYLIGHT
BEGIN:STANDARD
TZOFFSETFROM:+0200
TZOFFSETTO:+0100
TZNAME:CET
DTSTART:20241027T010000
END:STANDARD
BEGIN:DAYLIGHT
TZOFFSETFROM:+0100
TZOFFSETTO:+0200
TZNAME:CEST
DTSTART:20250330T010000
END:DAYLIGHT
BEGIN:STANDARD
TZOFFSETFROM:+0200
TZOFFSETTO:+0100
TZNAME:CET
DTSTART:20251026T010000
END:STANDARD
END:VTIMEZONE
BEGIN:VEVENT
DTSTART;TZID=Europe/Zurich:20241102T100000
DTEND;TZID=Europe/Zurich:20241102T190000
DTSTAMP:20260425T155549
CREATED:20240202T080811Z
LAST-MODIFIED:20241027T161027Z
UID:30159-1730541600-1730574000@www.speer-braui.ch
SUMMARY:Whisky Release 2024: Speer-Braui’s neue Editionen
DESCRIPTION:Am Samstag\, 2. November\, laden wir herzlich zur Präsentation unserer neuesten Speer-Spirituosen ein. Freue Dich auf zwei exklusive Speer-Whisky-Abfüllungen und drei außergewöhnliche Speer-Rhum-Abfüllungen\, die bei der „Swiss Spirits Review“ mit hohen Punktzahlen ausgezeichnet wurden. \nWhisky: 1x Gold und 1x Silber\nWeitere Infos: https://www.spirits-review.ch/ergebnisse-whiskey-2024/ \nRhum: 1x Gold und 2x Silber\nWeitere Infos: https://www.spirits-review.ch/ergebnisse-rum-2024/\n(Hinweis: Für Gold waren diesmal mehr Punkte nötig – sonst hätten alle Abfüllungen Gold erhalten.) \nWir freuen uns auf alle Whisky- und Rhum-Liebhaber\, die unsere Neuheiten entdecken und verkosten möchten. Vom preisgekrönten Festungswhisky 2021 haben wir übrigens ebenfalls genügend Vorrat – es ist also für jeden etwas dabei! \nVorbeikommen lohnt sich!
URL:https://www.speer-braui.ch/veranstaltungen/whisky-release-2024/
LOCATION:Speer-Braui\, Dorfstrasse 11\, Kaltbrunn\, 8722\, Schweiz
CATEGORIES:Ladenöffnungszeiten
ATTACH;FMTTYPE=image/png:https://www.speer-braui.ch/wp-content/uploads/2024/02/IMG_1657.png
END:VEVENT
BEGIN:VEVENT
DTSTART;TZID=Europe/Zurich:20241108T170000
DTEND;TZID=Europe/Zurich:20241108T200000
DTSTAMP:20260425T155549
CREATED:20240423T092504Z
LAST-MODIFIED:20240423T115835Z
UID:30199-1731085200-1731096000@www.speer-braui.ch
SUMMARY:Brauereiladen geöffnet
DESCRIPTION:Neue Abfüllungen unserer Single Malt Whiskys und Rhums sind verfügbar! \nBesuche unseren Brauereiladen in Kaltbrunn und tauche ein in die Welt exquisiter Craft-Biere\, erlesener Whiskys und authentischer Rhums. \nUnser vielfältiges Angebot umfasst nicht nur eine breite Palette an Bieren\, sondern auch sechs unterschiedliche Whiskys und zwei einzigartige Rhums. \nErlebe\, wie jedes Produkt die Geschichte seiner Herstellung erzählt\, von den sorgfältig ausgewählten Zutaten bis hin zu den traditionellen Methoden\, die ihnen ihren charakteristischen Geschmack verleihen. \n\nNutze die Gelegenheit\, direkt bei den Herstellern zu kaufen und mehr über die neuesten Kreationen zu erfahren\, die Speer-Braui so besonders machen. Wir freuen uns auf Deinen Besuch und darauf\, Dir unsere neuesten Spirituosen vorzustellen!
URL:https://www.speer-braui.ch/veranstaltungen/brauereiladen-geoeffnet-9/
LOCATION:Speer-Braui\, Dorfstrasse 11\, Kaltbrunn\, 8722\, Schweiz
CATEGORIES:Ladenöffnungszeiten
ATTACH;FMTTYPE=image/png:https://www.speer-braui.ch/wp-content/uploads/2023/04/BrauiVonAussen.png
END:VEVENT
BEGIN:VEVENT
DTSTART;TZID=Europe/Zurich:20241109T100000
DTEND;TZID=Europe/Zurich:20241109T170000
DTSTAMP:20260425T155549
CREATED:20240423T093154Z
LAST-MODIFIED:20240423T115819Z
UID:30203-1731146400-1731171600@www.speer-braui.ch
SUMMARY:Brauereiladen geöffnet
DESCRIPTION:Neue Abfüllungen unserer Single Malt Whiskys und Rhums sind verfügbar! \nBesuche unseren Brauereiladen in Kaltbrunn und tauche ein in die Welt exquisiter Craft-Biere\, erlesener Whiskys und authentischer Rhums. \nUnser vielfältiges Angebot umfasst nicht nur eine breite Palette an Bieren\, sondern auch sechs unterschiedliche Whiskys und zwei einzigartige Rhums. \nErlebe\, wie jedes Produkt die Geschichte seiner Herstellung erzählt\, von den sorgfältig ausgewählten Zutaten bis hin zu den traditionellen Methoden\, die ihnen ihren charakteristischen Geschmack verleihen. \n\nNutze die Gelegenheit\, direkt bei den Herstellern zu kaufen und mehr über die neuesten Kreationen zu erfahren\, die Speer-Braui so besonders machen. Wir freuen uns auf Deinen Besuch und darauf\, Dir unsere neuesten Spirituosen vorzustellen!
URL:https://www.speer-braui.ch/veranstaltungen/brauereiladen-geoeffnet-10/
LOCATION:Speer-Braui\, Dorfstrasse 11\, Kaltbrunn\, 8722\, Schweiz
CATEGORIES:Ladenöffnungszeiten
ATTACH;FMTTYPE=image/png:https://www.speer-braui.ch/wp-content/uploads/2023/04/BrauiVonAussen.png
END:VEVENT
BEGIN:VEVENT
DTSTART;TZID=Europe/Zurich:20241122T170000
DTEND;TZID=Europe/Zurich:20241122T200000
DTSTAMP:20260425T155549
CREATED:20240423T093306Z
LAST-MODIFIED:20240423T115803Z
UID:30205-1732294800-1732305600@www.speer-braui.ch
SUMMARY:Brauereiladen geöffnet
DESCRIPTION:Neue Abfüllungen unserer Single Malt Whiskys und Rhums sind verfügbar! \nBesuche unseren Brauereiladen in Kaltbrunn und tauche ein in die Welt exquisiter Craft-Biere\, erlesener Whiskys und authentischer Rhums. \nUnser vielfältiges Angebot umfasst nicht nur eine breite Palette an Bieren\, sondern auch sechs unterschiedliche Whiskys und zwei einzigartige Rhums. \nErlebe\, wie jedes Produkt die Geschichte seiner Herstellung erzählt\, von den sorgfältig ausgewählten Zutaten bis hin zu den traditionellen Methoden\, die ihnen ihren charakteristischen Geschmack verleihen. \n\nNutze die Gelegenheit\, direkt bei den Herstellern zu kaufen und mehr über die neuesten Kreationen zu erfahren\, die Speer-Braui so besonders machen. Wir freuen uns auf Deinen Besuch und darauf\, Dir unsere neuesten Spirituosen vorzustellen!
URL:https://www.speer-braui.ch/veranstaltungen/brauereiladen-geoeffnet-11/
LOCATION:Speer-Braui\, Dorfstrasse 11\, Kaltbrunn\, 8722\, Schweiz
CATEGORIES:Ladenöffnungszeiten
ATTACH;FMTTYPE=image/png:https://www.speer-braui.ch/wp-content/uploads/2023/04/BrauiVonAussen.png
END:VEVENT
BEGIN:VEVENT
DTSTART;TZID=Europe/Zurich:20241130T100000
DTEND;TZID=Europe/Zurich:20241130T220000
DTSTAMP:20260425T155549
CREATED:20240423T093448Z
LAST-MODIFIED:20241122T093718Z
UID:30208-1732960800-1733004000@www.speer-braui.ch
SUMMARY:Brauereiladen geöffnet
DESCRIPTION:Neue Abfüllungen unserer Single Malt Whiskys und Rhums sind verfügbar! \nBesuche unseren Brauereiladen in Kaltbrunn und tauche ein in die Welt exquisiter Craft-Biere\, erlesener Whiskys und authentischer Rhums. \nUnser vielfältiges Angebot umfasst nicht nur eine breite Palette an Bieren\, sondern auch sechs unterschiedliche Whiskys und zwei einzigartige Rhums. \nErlebe\, wie jedes Produkt die Geschichte seiner Herstellung erzählt\, von den sorgfältig ausgewählten Zutaten bis hin zu den traditionellen Methoden\, die ihnen ihren charakteristischen Geschmack verleihen. \nNutze die Gelegenheit\, direkt bei den Herstellern zu kaufen und mehr über die neuesten Kreationen zu erfahren\, die Speer-Braui so besonders machen. Wir freuen uns auf Deinen Besuch und darauf\, Dir unsere neuesten Spirituosen vorzustellen!
URL:https://www.speer-braui.ch/veranstaltungen/brauereiladen-geoeffnet-12/
LOCATION:Speer-Braui\, Dorfstrasse 11\, Kaltbrunn\, 8722\, Schweiz
CATEGORIES:Ladenöffnungszeiten
ATTACH;FMTTYPE=image/png:https://www.speer-braui.ch/wp-content/uploads/2023/04/BrauiVonAussen.png
END:VEVENT
END:VCALENDAR