BEGIN:VCALENDAR
VERSION:2.0
PRODID:-//Speer-Braui - ECPv6.15.20//NONSGML v1.0//EN
CALSCALE:GREGORIAN
METHOD:PUBLISH
X-WR-CALNAME:Speer-Braui
X-ORIGINAL-URL:https://www.speer-braui.ch
X-WR-CALDESC:Veranstaltungen für Speer-Braui
REFRESH-INTERVAL;VALUE=DURATION:PT1H
X-Robots-Tag:noindex
X-PUBLISHED-TTL:PT1H
BEGIN:VTIMEZONE
TZID:Europe/Zurich
BEGIN:DAYLIGHT
TZOFFSETFROM:+0100
TZOFFSETTO:+0200
TZNAME:CEST
DTSTART:20240331T010000
END:DAYLIGHT
BEGIN:STANDARD
TZOFFSETFROM:+0200
TZOFFSETTO:+0100
TZNAME:CET
DTSTART:20241027T010000
END:STANDARD
BEGIN:DAYLIGHT
TZOFFSETFROM:+0100
TZOFFSETTO:+0200
TZNAME:CEST
DTSTART:20250330T010000
END:DAYLIGHT
BEGIN:STANDARD
TZOFFSETFROM:+0200
TZOFFSETTO:+0100
TZNAME:CET
DTSTART:20251026T010000
END:STANDARD
BEGIN:DAYLIGHT
TZOFFSETFROM:+0100
TZOFFSETTO:+0200
TZNAME:CEST
DTSTART:20260329T010000
END:DAYLIGHT
BEGIN:STANDARD
TZOFFSETFROM:+0200
TZOFFSETTO:+0100
TZNAME:CET
DTSTART:20261025T010000
END:STANDARD
END:VTIMEZONE
BEGIN:VEVENT
DTSTART;TZID=Europe/Zurich:20250301T170000
DTEND;TZID=Europe/Zurich:20250301T230000
DTSTAMP:20260425T003512
CREATED:20250115T084209Z
LAST-MODIFIED:20250115T084704Z
UID:30607-1740848400-1740870000@www.speer-braui.ch
SUMMARY:Fasnachtssamstag
DESCRIPTION:Wir haben am Fasnachtssamstag offen. \n 
URL:https://www.speer-braui.ch/veranstaltungen/fasnachtssamstag/
LOCATION:Speer-Braui\, Dorfstrasse 11\, Kaltbrunn\, 8722\, Schweiz
CATEGORIES:Ladenöffnungszeiten
ATTACH;FMTTYPE=image/png:https://www.speer-braui.ch/wp-content/uploads/2025/01/Fasnacht2025.png
END:VEVENT
BEGIN:VEVENT
DTSTART;TZID=Europe/Zurich:20250302T110000
DTEND;TZID=Europe/Zurich:20250302T130000
DTSTAMP:20260425T003512
CREATED:20241119T114748Z
LAST-MODIFIED:20250219T204320Z
UID:30495-1740913200-1740920400@www.speer-braui.ch
SUMMARY:Spaghetti Essen Fasnacht 2025 (Ausgebucht)
DESCRIPTION:Stärke Dich vor dem Fasnachtsumzug mit einem feinen Zmittag. \nSpaghetti – Plausch\nà discrétion\nmit 3 verschiedenen Saucen\nfür 15 Franken \nAnmeldung erforderlich. Plätze sind beschränkt.\nFülle das untenstehende Formular aus.
URL:https://www.speer-braui.ch/veranstaltungen/spaghetti-essen-fasnacht-2025/
LOCATION:Speer-Braui\, Dorfstrasse 11\, Kaltbrunn\, 8722\, Schweiz
CATEGORIES:Ladenöffnungszeiten
ATTACH;FMTTYPE=image/png:https://www.speer-braui.ch/wp-content/uploads/2025/01/Fasnacht2025.png
END:VEVENT
BEGIN:VEVENT
DTSTART;TZID=Europe/Zurich:20250302T130000
DTEND;TZID=Europe/Zurich:20250302T200000
DTSTAMP:20260425T003512
CREATED:20250115T084545Z
LAST-MODIFIED:20250208T083259Z
UID:30611-1740920400-1740945600@www.speer-braui.ch
SUMMARY:Fasnachtssonntag
DESCRIPTION:Besuche uns an der Fasnacht \nNeben Bier haben wir auch warmen Grog im Angebot!
URL:https://www.speer-braui.ch/veranstaltungen/fasnachtssonntag/
LOCATION:Speer-Braui\, Dorfstrasse 11\, Kaltbrunn\, 8722\, Schweiz
CATEGORIES:Ladenöffnungszeiten
ATTACH;FMTTYPE=image/png:https://www.speer-braui.ch/wp-content/uploads/2025/01/Fasnacht2025.png
END:VEVENT
BEGIN:VEVENT
DTSTART;TZID=Europe/Zurich:20250311T200000
DTEND;TZID=Europe/Zurich:20250311T233000
DTSTAMP:20260425T003512
CREATED:20250115T082941Z
LAST-MODIFIED:20250115T082941Z
UID:30602-1741723200-1741735800@www.speer-braui.ch
SUMMARY:private Veranstaltung
DESCRIPTION:
URL:https://www.speer-braui.ch/veranstaltungen/private-veranstaltung-2/
ATTACH;FMTTYPE=image/jpeg:https://www.speer-braui.ch/wp-content/uploads/2023/12/a-notice-293184_640.jpg
END:VEVENT
BEGIN:VEVENT
DTSTART;TZID=Europe/Zurich:20250322T080000
DTEND;TZID=Europe/Zurich:20250322T120000
DTSTAMP:20260425T003512
CREATED:20250115T085732Z
LAST-MODIFIED:20250115T085732Z
UID:30621-1742630400-1742644800@www.speer-braui.ch
SUMMARY:Rampenverkauf (/Bierbrauen)
DESCRIPTION:Wenn wir Bier brauen\, ist unser Rampenverkauf offen. Du findest uns beim Hintereingang (Türe mit unserem Logo von der Kirchen Seite her). Wir sind ganz sicher bis 12:00 vor Ort. Eventuell auch länger.
URL:https://www.speer-braui.ch/veranstaltungen/rampenverkauf-bierbrauen-2/
LOCATION:Speer-Braui\, Dorfstrasse 11\, Kaltbrunn\, 8722\, Schweiz
CATEGORIES:Ladenöffnungszeiten
ATTACH;FMTTYPE=image/png:https://www.speer-braui.ch/wp-content/uploads/2023/04/BrauiVonAussen.png
END:VEVENT
BEGIN:VEVENT
DTSTART;TZID=Europe/Zurich:20250329T090000
DTEND;TZID=Europe/Zurich:20250329T230000
DTSTAMP:20260425T003512
CREATED:20250115T084853Z
LAST-MODIFIED:20250328T170653Z
UID:30613-1743238800-1743289200@www.speer-braui.ch
SUMMARY:Frühlingsmarkt Kaltbrunn
DESCRIPTION:
URL:https://www.speer-braui.ch/veranstaltungen/fruehlingsmarkt-kaltbrunn/
LOCATION:Speer-Braui\, Dorfstrasse 11\, Kaltbrunn\, 8722\, Schweiz
ATTACH;FMTTYPE=image/png:https://www.speer-braui.ch/wp-content/uploads/2024/02/IMG_1212.png
END:VEVENT
END:VCALENDAR