BEGIN:VCALENDAR
VERSION:2.0
PRODID:-//Speer-Braui - ECPv6.15.20//NONSGML v1.0//EN
CALSCALE:GREGORIAN
METHOD:PUBLISH
X-WR-CALNAME:Speer-Braui
X-ORIGINAL-URL:https://www.speer-braui.ch
X-WR-CALDESC:Veranstaltungen für Speer-Braui
REFRESH-INTERVAL;VALUE=DURATION:PT1H
X-Robots-Tag:noindex
X-PUBLISHED-TTL:PT1H
BEGIN:VTIMEZONE
TZID:Europe/Zurich
BEGIN:DAYLIGHT
TZOFFSETFROM:+0100
TZOFFSETTO:+0200
TZNAME:CEST
DTSTART:20250330T010000
END:DAYLIGHT
BEGIN:STANDARD
TZOFFSETFROM:+0200
TZOFFSETTO:+0100
TZNAME:CET
DTSTART:20251026T010000
END:STANDARD
BEGIN:DAYLIGHT
TZOFFSETFROM:+0100
TZOFFSETTO:+0200
TZNAME:CEST
DTSTART:20260329T010000
END:DAYLIGHT
BEGIN:STANDARD
TZOFFSETFROM:+0200
TZOFFSETTO:+0100
TZNAME:CET
DTSTART:20261025T010000
END:STANDARD
BEGIN:DAYLIGHT
TZOFFSETFROM:+0100
TZOFFSETTO:+0200
TZNAME:CEST
DTSTART:20270328T010000
END:DAYLIGHT
BEGIN:STANDARD
TZOFFSETFROM:+0200
TZOFFSETTO:+0100
TZNAME:CET
DTSTART:20271031T010000
END:STANDARD
END:VTIMEZONE
BEGIN:VEVENT
DTSTART;TZID=Europe/Zurich:20260214T170000
DTEND;TZID=Europe/Zurich:20260214T230000
DTSTAMP:20260420T084201
CREATED:20251030T065742Z
LAST-MODIFIED:20251030T065742Z
UID:30736-1771088400-1771110000@www.speer-braui.ch
SUMMARY:Fasnachtssamstag
DESCRIPTION:
URL:https://www.speer-braui.ch/veranstaltungen/fasnachtssamstag-2/
LOCATION:Speer-Braui\, Dorfstrasse 11\, Kaltbrunn\, 8722\, Schweiz
END:VEVENT
BEGIN:VEVENT
DTSTART;TZID=Europe/Zurich:20260215T110000
DTEND;TZID=Europe/Zurich:20260215T130000
DTSTAMP:20260420T084201
CREATED:20251030T070207Z
LAST-MODIFIED:20260209T110105Z
UID:30738-1771153200-1771160400@www.speer-braui.ch
SUMMARY:Spaghetti Essen Fasnacht 2026
DESCRIPTION:Stärke Dich vor dem Fasnachtsumzug mit einem feinen Zmittag. \nFür Fasnächtler\, welche am Umzug mitmachen: 11:00 – 12:00 (ausgebucht)\nFür Fasnächtler\, welche etwas länger ausschlafen dürfen: 12:00 – 13:00 (es hat noch Plätze frei)\n==> Bei der Anmeldung unter Bemerkungen bitte angeben\, ob ihr in der ersten oder zweiten Runde vorbei kommt. \nSpaghetti – Plausch\nà discrétion\nmit 3 verschiedenen Saucen\nfür 15 Franken \nAnmeldung erforderlich. Plätze sind beschränkt.\nFülle das untenstehende Formular aus. \nWICHTIG: Es sind nur noch Plätze von 12:00 bis 13:00 verfügbar.
URL:https://www.speer-braui.ch/veranstaltungen/spaghetti-essen-fasnacht-2026/
LOCATION:Speer-Braui\, Dorfstrasse 11\, Kaltbrunn\, 8722\, Schweiz
END:VEVENT
BEGIN:VEVENT
DTSTART;TZID=Europe/Zurich:20260215T130000
DTEND;TZID=Europe/Zurich:20260215T200000
DTSTAMP:20260420T084201
CREATED:20251030T070336Z
LAST-MODIFIED:20251030T070336Z
UID:30740-1771160400-1771185600@www.speer-braui.ch
SUMMARY:Fasnachtssonntag
DESCRIPTION:
URL:https://www.speer-braui.ch/veranstaltungen/fasnachtssonntag-2/
LOCATION:Speer-Braui\, Dorfstrasse 11\, Kaltbrunn\, 8722\, Schweiz
END:VEVENT
BEGIN:VEVENT
DTSTART;TZID=Europe/Zurich:20260227T180000
DTEND;TZID=Europe/Zurich:20260227T230000
DTSTAMP:20260420T084201
CREATED:20251222T112053Z
LAST-MODIFIED:20251222T112659Z
UID:30862-1772215200-1772233200@www.speer-braui.ch
SUMMARY:Brauereiladen offen
DESCRIPTION:
URL:https://www.speer-braui.ch/veranstaltungen/brauereiladen-offen-10/
LOCATION:Speer-Braui\, Dorfstrasse 11\, Kaltbrunn\, 8722\, Schweiz
CATEGORIES:Ladenöffnungszeiten
ATTACH;FMTTYPE=image/png:https://www.speer-braui.ch/wp-content/uploads/2023/04/BrauiVonAussen.png
END:VEVENT
END:VCALENDAR